BEGIN:VCALENDAR
VERSION:2.0
PRODID:-//West Dartmoor Mission Community - ECPv6.15.20//NONSGML v1.0//EN
CALSCALE:GREGORIAN
METHOD:PUBLISH
X-ORIGINAL-URL:https://www.westdartmoor.church
X-WR-CALDESC:Events for West Dartmoor Mission Community
REFRESH-INTERVAL;VALUE=DURATION:PT1H
X-Robots-Tag:noindex
X-PUBLISHED-TTL:PT1H
BEGIN:VTIMEZONE
TZID:Europe/Paris
BEGIN:DAYLIGHT
TZOFFSETFROM:+0100
TZOFFSETTO:+0200
TZNAME:CEST
DTSTART:20140330T010000
END:DAYLIGHT
BEGIN:STANDARD
TZOFFSETFROM:+0200
TZOFFSETTO:+0100
TZNAME:CET
DTSTART:20141026T010000
END:STANDARD
BEGIN:DAYLIGHT
TZOFFSETFROM:+0100
TZOFFSETTO:+0200
TZNAME:CEST
DTSTART:20150329T010000
END:DAYLIGHT
BEGIN:STANDARD
TZOFFSETFROM:+0200
TZOFFSETTO:+0100
TZNAME:CET
DTSTART:20151025T010000
END:STANDARD
BEGIN:DAYLIGHT
TZOFFSETFROM:+0100
TZOFFSETTO:+0200
TZNAME:CEST
DTSTART:20160327T010000
END:DAYLIGHT
BEGIN:STANDARD
TZOFFSETFROM:+0200
TZOFFSETTO:+0100
TZNAME:CET
DTSTART:20161030T010000
END:STANDARD
END:VTIMEZONE
BEGIN:VEVENT
DTSTART;TZID=Europe/Paris:20150809T000000
DTEND;TZID=Europe/Paris:20150809T000000
DTSTAMP:20260422T000322
CREATED:20151130T213326Z
LAST-MODIFIED:20151130T213326Z
UID:2452-1439078400-1439078400@www.westdartmoor.church
SUMMARY:Meavy Walk
DESCRIPTION:Walk followed by cream tea in aid the Friends of St Peter’s
URL:https://www.westdartmoor.church/event/meavy-walk/
LOCATION:Devon
END:VEVENT
BEGIN:VEVENT
DTSTART;TZID=Europe/Paris:20150816T000000
DTEND;TZID=Europe/Paris:20150816T000000
DTSTAMP:20260422T000322
CREATED:20151130T213327Z
LAST-MODIFIED:20151130T213327Z
UID:2453-1439683200-1439683200@www.westdartmoor.church
SUMMARY:Cream Tea
DESCRIPTION:Please come and support our cream tea in aid of church funds
URL:https://www.westdartmoor.church/event/cream-tea-11/
LOCATION:Devon
END:VEVENT
BEGIN:VEVENT
DTSTART;TZID=Europe/Paris:20150822T000000
DTEND;TZID=Europe/Paris:20150822T000000
DTSTAMP:20260422T000322
CREATED:20151130T213327Z
LAST-MODIFIED:20151130T213327Z
UID:2454-1440201600-1440201600@www.westdartmoor.church
SUMMARY:Tamar Valley Male Voice Choir
DESCRIPTION:Tickets £7-50 pre booke and £8-50 on door.  Refreshments & Raffle.Proceeds to church funds. Tickets on sale from 1 July
URL:https://www.westdartmoor.church/event/tamar-valley-male-voice-choir-2/
LOCATION:Devon
END:VEVENT
BEGIN:VEVENT
DTSTART;TZID=Europe/Paris:20150826T000000
DTEND;TZID=Europe/Paris:20150826T000000
DTSTAMP:20260422T000322
CREATED:20151130T213328Z
LAST-MODIFIED:20151130T213328Z
UID:2455-1440547200-1440547200@www.westdartmoor.church
SUMMARY:Bible Study Group
DESCRIPTION:All welcome to our Pilgrim Course series looking at the Creed over the next six sessions
URL:https://www.westdartmoor.church/event/bible-study-group-4/
LOCATION:Devon
END:VEVENT
BEGIN:VEVENT
DTSTART;TZID=Europe/Paris:20150828T000000
DTEND;TZID=Europe/Paris:20150829T000000
DTSTAMP:20260422T000322
CREATED:20151130T213328Z
LAST-MODIFIED:20151130T213328Z
UID:2456-1440720000-1440806400@www.westdartmoor.church
SUMMARY:Sheep Dog Trials
DESCRIPTION:
URL:https://www.westdartmoor.church/event/sheep-dog-trials-2/
LOCATION:Devon
END:VEVENT
END:VCALENDAR