BEGIN:VCALENDAR
VERSION:2.0
PRODID:-//West Dartmoor Mission Community - ECPv6.15.20//NONSGML v1.0//EN
CALSCALE:GREGORIAN
METHOD:PUBLISH
X-ORIGINAL-URL:https://www.westdartmoor.church
X-WR-CALDESC:Events for West Dartmoor Mission Community
REFRESH-INTERVAL;VALUE=DURATION:PT1H
X-Robots-Tag:noindex
X-PUBLISHED-TTL:PT1H
BEGIN:VTIMEZONE
TZID:Europe/Paris
BEGIN:DAYLIGHT
TZOFFSETFROM:+0100
TZOFFSETTO:+0200
TZNAME:CEST
DTSTART:20130331T010000
END:DAYLIGHT
BEGIN:STANDARD
TZOFFSETFROM:+0200
TZOFFSETTO:+0100
TZNAME:CET
DTSTART:20131027T010000
END:STANDARD
BEGIN:DAYLIGHT
TZOFFSETFROM:+0100
TZOFFSETTO:+0200
TZNAME:CEST
DTSTART:20140330T010000
END:DAYLIGHT
BEGIN:STANDARD
TZOFFSETFROM:+0200
TZOFFSETTO:+0100
TZNAME:CET
DTSTART:20141026T010000
END:STANDARD
BEGIN:DAYLIGHT
TZOFFSETFROM:+0100
TZOFFSETTO:+0200
TZNAME:CEST
DTSTART:20150329T010000
END:DAYLIGHT
BEGIN:STANDARD
TZOFFSETFROM:+0200
TZOFFSETTO:+0100
TZNAME:CET
DTSTART:20151025T010000
END:STANDARD
END:VTIMEZONE
BEGIN:VEVENT
DTSTART;TZID=Europe/Paris:20140108T000000
DTEND;TZID=Europe/Paris:20140108T000000
DTSTAMP:20260424T114621
CREATED:20151130T213128Z
LAST-MODIFIED:20151130T213128Z
UID:2245-1389139200-1389139200@www.westdartmoor.church
SUMMARY:Messy Church\, Princetown
DESCRIPTION:This month’s theme – Who’s who in the Bible – Jonah
URL:https://www.westdartmoor.church/event/messy-church-princetown-4/
LOCATION:Devon
END:VEVENT
BEGIN:VEVENT
DTSTART;TZID=Europe/Paris:20140116T000000
DTEND;TZID=Europe/Paris:20140116T000000
DTSTAMP:20260424T114621
CREATED:20151130T213128Z
LAST-MODIFIED:20151130T213128Z
UID:2246-1389830400-1389830400@www.westdartmoor.church
SUMMARY:MC Council Meeting
DESCRIPTION:Council members only
URL:https://www.westdartmoor.church/event/mc-council-meeting/
LOCATION:Devon
END:VEVENT
BEGIN:VEVENT
DTSTART;TZID=Europe/Paris:20140123T000000
DTEND;TZID=Europe/Paris:20140123T000000
DTSTAMP:20260424T114621
CREATED:20151130T213129Z
LAST-MODIFIED:20151130T213129Z
UID:2247-1390435200-1390435200@www.westdartmoor.church
SUMMARY:Midweek Evening Service
DESCRIPTION:
URL:https://www.westdartmoor.church/event/midweek-evening-service-4/
LOCATION:Devon
END:VEVENT
END:VCALENDAR