BEGIN:VCALENDAR
VERSION:2.0
PRODID:-//West Dartmoor Mission Community - ECPv6.15.20//NONSGML v1.0//EN
CALSCALE:GREGORIAN
METHOD:PUBLISH
X-WR-CALNAME:West Dartmoor Mission Community
X-ORIGINAL-URL:https://www.westdartmoor.church
X-WR-CALDESC:Events for West Dartmoor Mission Community
REFRESH-INTERVAL;VALUE=DURATION:PT1H
X-Robots-Tag:noindex
X-PUBLISHED-TTL:PT1H
BEGIN:VTIMEZONE
TZID:Europe/London
BEGIN:DAYLIGHT
TZOFFSETFROM:+0000
TZOFFSETTO:+0100
TZNAME:BST
DTSTART:20170326T010000
END:DAYLIGHT
BEGIN:STANDARD
TZOFFSETFROM:+0100
TZOFFSETTO:+0000
TZNAME:GMT
DTSTART:20171029T010000
END:STANDARD
BEGIN:DAYLIGHT
TZOFFSETFROM:+0000
TZOFFSETTO:+0100
TZNAME:BST
DTSTART:20180325T010000
END:DAYLIGHT
BEGIN:STANDARD
TZOFFSETFROM:+0100
TZOFFSETTO:+0000
TZNAME:GMT
DTSTART:20181028T010000
END:STANDARD
BEGIN:DAYLIGHT
TZOFFSETFROM:+0000
TZOFFSETTO:+0100
TZNAME:BST
DTSTART:20190331T010000
END:DAYLIGHT
BEGIN:STANDARD
TZOFFSETFROM:+0100
TZOFFSETTO:+0000
TZNAME:GMT
DTSTART:20191027T010000
END:STANDARD
BEGIN:DAYLIGHT
TZOFFSETFROM:+0000
TZOFFSETTO:+0100
TZNAME:BST
DTSTART:20200329T010000
END:DAYLIGHT
BEGIN:STANDARD
TZOFFSETFROM:+0100
TZOFFSETTO:+0000
TZNAME:GMT
DTSTART:20201025T010000
END:STANDARD
BEGIN:DAYLIGHT
TZOFFSETFROM:+0000
TZOFFSETTO:+0100
TZNAME:BST
DTSTART:20210328T010000
END:DAYLIGHT
BEGIN:STANDARD
TZOFFSETFROM:+0100
TZOFFSETTO:+0000
TZNAME:GMT
DTSTART:20211031T010000
END:STANDARD
BEGIN:DAYLIGHT
TZOFFSETFROM:+0000
TZOFFSETTO:+0100
TZNAME:BST
DTSTART:20220327T010000
END:DAYLIGHT
BEGIN:STANDARD
TZOFFSETFROM:+0100
TZOFFSETTO:+0000
TZNAME:GMT
DTSTART:20221030T010000
END:STANDARD
BEGIN:DAYLIGHT
TZOFFSETFROM:+0000
TZOFFSETTO:+0100
TZNAME:BST
DTSTART:20230326T010000
END:DAYLIGHT
BEGIN:STANDARD
TZOFFSETFROM:+0100
TZOFFSETTO:+0000
TZNAME:GMT
DTSTART:20231029T010000
END:STANDARD
BEGIN:DAYLIGHT
TZOFFSETFROM:+0000
TZOFFSETTO:+0100
TZNAME:BST
DTSTART:20240331T010000
END:DAYLIGHT
BEGIN:STANDARD
TZOFFSETFROM:+0100
TZOFFSETTO:+0000
TZNAME:GMT
DTSTART:20241027T010000
END:STANDARD
BEGIN:DAYLIGHT
TZOFFSETFROM:+0000
TZOFFSETTO:+0100
TZNAME:BST
DTSTART:20250330T010000
END:DAYLIGHT
BEGIN:STANDARD
TZOFFSETFROM:+0100
TZOFFSETTO:+0000
TZNAME:GMT
DTSTART:20251026T010000
END:STANDARD
BEGIN:DAYLIGHT
TZOFFSETFROM:+0000
TZOFFSETTO:+0100
TZNAME:BST
DTSTART:20260329T010000
END:DAYLIGHT
BEGIN:STANDARD
TZOFFSETFROM:+0100
TZOFFSETTO:+0000
TZNAME:GMT
DTSTART:20261025T010000
END:STANDARD
BEGIN:DAYLIGHT
TZOFFSETFROM:+0000
TZOFFSETTO:+0100
TZNAME:BST
DTSTART:20270328T010000
END:DAYLIGHT
BEGIN:STANDARD
TZOFFSETFROM:+0100
TZOFFSETTO:+0000
TZNAME:GMT
DTSTART:20271031T010000
END:STANDARD
END:VTIMEZONE
BEGIN:VEVENT
DTSTART;TZID=Europe/London:20260320T193000
DTEND;TZID=Europe/London:20260320T220000
DTSTAMP:20260423T192423
CREATED:20260227T074910Z
LAST-MODIFIED:20260227T074910Z
UID:11106-1774035000-1774044000@www.westdartmoor.church
SUMMARY:A Third Horrabridge Inter-church Quiz
DESCRIPTION:Friday 20 March in Horrabridge Village Hall 1930 to 2200. £5 per person. Teams of up to 6. Bring drinks and nibbles. \nEmail horrabridgechurch@outlook.com or leave a message on 01822 852240 to book.
URL:https://www.westdartmoor.church/event/a-third-horrabridge-inter-church-quiz/
LOCATION:Horrabridge Village Hall\, Station Road\, Horrabridge\, Devon\, PL20 7SS\, United Kingdom
CATEGORIES:Fellowship,Friendship,Quiz
END:VEVENT
BEGIN:VEVENT
DTSTART;TZID=Europe/London:20260319T143000
DTEND;TZID=Europe/London:20260319T163000
DTSTAMP:20260423T192423
CREATED:20260227T074054Z
LAST-MODIFIED:20260227T074054Z
UID:11104-1773930600-1773937800@www.westdartmoor.church
SUMMARY:A Springtime Afternoon Quiz
DESCRIPTION:As our autumn quiz was enjoyed so much\, we are holding another. In Horrabridge Village Hall\, Thur 19 March 1430-1630. Teams of up to 6  people. £5 a head including a free cup of tea. Homemade Cakes and Raffle ticket will be available to buy. Time to start having fun again.\nEmail horrabridgechurch@outlook.com or leave a message on 01822 852240 to book or for more info
URL:https://www.westdartmoor.church/event/a-springtime-afternoon-quiz/
LOCATION:Horrabridge Village Hall\, Station Road\, Horrabridge\, Devon\, PL20 7SS\, United Kingdom
CATEGORIES:Fellowship,Friendship,Quiz
END:VEVENT
BEGIN:VEVENT
DTSTART;TZID=Europe/London:20251024T193000
DTEND;TZID=Europe/London:20251024T220000
DTSTAMP:20260423T192423
CREATED:20250905T161552Z
LAST-MODIFIED:20250905T161552Z
UID:10851-1761334200-1761343200@www.westdartmoor.church
SUMMARY:Inter-Church Quiz
DESCRIPTION:Inter-Church Quiz on Friday 24 October 1930 to 2200 in Horrabridge Village Hall. Teams of 6\, £5 per person\, bring your own nibbles and drinks. Raffle. email horrabridgechurch@outlook.com to book a table.
URL:https://www.westdartmoor.church/event/inter-church-quiz-2/
LOCATION:Horrabridge Village Hall\, Station Road\, Horrabridge\, Devon\, PL20 7SS\, United Kingdom
CATEGORIES:Fellowship,Friendship,Quiz
END:VEVENT
BEGIN:VEVENT
DTSTART;TZID=Europe/London:20251023T143000
DTEND;TZID=Europe/London:20251023T163000
DTSTAMP:20260423T192423
CREATED:20250905T161402Z
LAST-MODIFIED:20250905T161402Z
UID:10849-1761229800-1761237000@www.westdartmoor.church
SUMMARY:An Afternoon Quiz
DESCRIPTION:An Afternoon Quiz – on Thursday 23 Oct in Horrabridge Village Hall from 1430 to 1630. Get together with friends for a team of 6 or make\nup teams on the day. The cost £5 per person including a cup of tea. Cakes and raffle tickets will be on sale.\nEmail horrabridgechurch@outlook.com to book a place in advance or for more information.
URL:https://www.westdartmoor.church/event/an-afternoon-quiz/
LOCATION:Horrabridge Village Hall\, Station Road\, Horrabridge\, Devon\, PL20 7SS\, United Kingdom
CATEGORIES:Fellowship,Friendship,Quiz
END:VEVENT
BEGIN:VEVENT
DTSTART;TZID=Europe/London:20250301T193000
DTEND;TZID=Europe/London:20250301T213000
DTSTAMP:20260423T192423
CREATED:20250209T180038Z
LAST-MODIFIED:20250209T180038Z
UID:10593-1740857400-1740864600@www.westdartmoor.church
SUMMARY:Inter-Church Quiz
DESCRIPTION:A fun quiz evening on Sat 1 Mar at 1930 at Horrabridge Village Hall. You’re invited to put together a team of about 6 people from your church and community (this is a chance to show we’re not just about buildings and services). The event is to help raise money for an urgent section of roof renovation at St John’s. \nBYO drinks and nibbles. £5 per person. Raffle prizes to be won. \nSpace is limited\, to secure a table early email horrabridgechurch@outlook.com.
URL:https://www.westdartmoor.church/event/inter-church-quiz/
LOCATION:Horrabridge Village Hall\, Station Road\, Horrabridge\, Devon\, PL20 7SS\, United Kingdom
CATEGORIES:Fellowship,Friendship,Quiz
END:VEVENT
BEGIN:VEVENT
DTSTART;TZID=Europe/London:20221119T190000
DTEND;TZID=Europe/London:20221119T210000
DTSTAMP:20260423T192423
CREATED:20221107T154127Z
LAST-MODIFIED:20221107T154127Z
UID:9061-1668884400-1668891600@www.westdartmoor.church
SUMMARY:The Big Quiz Night in aid of Tearfund
DESCRIPTION:
URL:https://www.westdartmoor.church/event/the-big-quiz-night-in-aid-of-tearfund/
LOCATION:Devon
CATEGORIES:Fellowship,Friendship,Quiz
END:VEVENT
BEGIN:VEVENT
DTSTART;TZID=Europe/London:20190424T193000
DTEND;TZID=Europe/London:20190424T213000
DTSTAMP:20260423T192423
CREATED:20190415T154149Z
LAST-MODIFIED:20190415T154149Z
UID:4635-1556134200-1556141400@www.westdartmoor.church
SUMMARY:Quiz Night
DESCRIPTION:The Walkhampton Inn have kindly offered to host a quiz to raise funds for St Mary’s Church.\nTeams of six. To book a table ring the pub on 258697.\nFor further details of any of the above: Corinne (854653)
URL:https://www.westdartmoor.church/event/quiz-night/
LOCATION:Walkhampton Inn\, Walkhampton\, Devon\, PL20 6JY\, United Kingdom
CATEGORIES:Quiz
END:VEVENT
BEGIN:VEVENT
DTSTART;TZID=Europe/London:20180316T190000
DTEND;TZID=Europe/London:20180316T220000
DTSTAMP:20260423T192423
CREATED:20180223T164602Z
LAST-MODIFIED:20180223T164602Z
UID:4080-1521226800-1521237600@www.westdartmoor.church
SUMMARY:Quiz & Pasty Supper
DESCRIPTION:A Quiz Evening \nwith a Pasty Supper! \nOn Friday 16th March at 7pm in St Paul’s Church Hall\, Yelverton \n\nTeams of 6 (max)\n£5.00 per person (includes supper – veggie option available)\nBYO drink & nibbles\nRaffle\n6 rounds of general knowledge\nNo Team? No worries – join a team on the night! All welcome.\n\nTo book a place/team contact: \nNick@westdartmoor.church 854653 gary@westdartmoor.church 854239 \nDi@westdartmoor.church 481553
URL:https://www.westdartmoor.church/event/quiz-pasty-supper/
LOCATION:St Paul’s Church Hall\, St Paul's Church Hall\, Yelverton\, Devon\, PL20 6AB\, United Kingdom
CATEGORIES:Quiz
ORGANIZER;CN="Revd Preb Nick Shutt":MAILTO:nick@westdartmoor.church
END:VEVENT
END:VCALENDAR