BEGIN:VCALENDAR
VERSION:2.0
PRODID:-//West Dartmoor Mission Community - ECPv6.15.20//NONSGML v1.0//EN
CALSCALE:GREGORIAN
METHOD:PUBLISH
X-WR-CALNAME:West Dartmoor Mission Community
X-ORIGINAL-URL:https://www.westdartmoor.church
X-WR-CALDESC:Events for West Dartmoor Mission Community
REFRESH-INTERVAL;VALUE=DURATION:PT1H
X-Robots-Tag:noindex
X-PUBLISHED-TTL:PT1H
BEGIN:VTIMEZONE
TZID:Europe/London
BEGIN:DAYLIGHT
TZOFFSETFROM:+0000
TZOFFSETTO:+0100
TZNAME:BST
DTSTART:20220327T010000
END:DAYLIGHT
BEGIN:STANDARD
TZOFFSETFROM:+0100
TZOFFSETTO:+0000
TZNAME:GMT
DTSTART:20221030T010000
END:STANDARD
BEGIN:DAYLIGHT
TZOFFSETFROM:+0000
TZOFFSETTO:+0100
TZNAME:BST
DTSTART:20230326T010000
END:DAYLIGHT
BEGIN:STANDARD
TZOFFSETFROM:+0100
TZOFFSETTO:+0000
TZNAME:GMT
DTSTART:20231029T010000
END:STANDARD
BEGIN:DAYLIGHT
TZOFFSETFROM:+0000
TZOFFSETTO:+0100
TZNAME:BST
DTSTART:20240331T010000
END:DAYLIGHT
BEGIN:STANDARD
TZOFFSETFROM:+0100
TZOFFSETTO:+0000
TZNAME:GMT
DTSTART:20241027T010000
END:STANDARD
END:VTIMEZONE
BEGIN:VEVENT
DTSTART;TZID=Europe/London:20231111T105000
DTEND;TZID=Europe/London:20231111T150000
DTSTAMP:20260423T002231
CREATED:20231013T073403Z
LAST-MODIFIED:20231013T073403Z
UID:9786-1699699800-1699714800@www.westdartmoor.church
SUMMARY:Come and See Weekend
DESCRIPTION:COME AND SEE WEEKEND\n\nOn  Saturday the 11th of November\, our benefice will support the Exeter Diocese Come and See initiative.  This is to open our churches to the local communities within the Devon area\, for anyone who does not normally go to church. It will give them the opportunity to Come and See the work and opportunities of Mission we do within our areas.\n\nThings that we will be doing on this day starting at 10:50 am\n\n1. Small act of remembrance at the Meavy War memorial with the 2 minutes of silence\n2. Refreshments are served at Meavy church\, where we can see local displays of how the church is supporting the environment (ECO church)\n3. A talk about the SSAFA  (Armed Forces charity)\n4. A walk from Meavy to Burrator Reservoir and Sheepstor church ending with refreshments\n\nPlease do come and support this day\, and tell all in your local area.
URL:https://www.westdartmoor.church/event/come-and-see-weekend/
LOCATION:St Peter’s Church\, Meavy\, Meavy\, Yelverton\, Devon\, PL20 6PJ\, United Kingdom
CATEGORIES:Fellowship,Friendship
END:VEVENT
END:VCALENDAR