BEGIN:VCALENDAR
VERSION:2.0
PRODID:-//West Dartmoor Mission Community - ECPv6.15.20//NONSGML v1.0//EN
CALSCALE:GREGORIAN
METHOD:PUBLISH
X-ORIGINAL-URL:https://www.westdartmoor.church
X-WR-CALDESC:Events for West Dartmoor Mission Community
REFRESH-INTERVAL;VALUE=DURATION:PT1H
X-Robots-Tag:noindex
X-PUBLISHED-TTL:PT1H
BEGIN:VTIMEZONE
TZID:Europe/London
BEGIN:DAYLIGHT
TZOFFSETFROM:+0000
TZOFFSETTO:+0100
TZNAME:BST
DTSTART:20180325T010000
END:DAYLIGHT
BEGIN:STANDARD
TZOFFSETFROM:+0100
TZOFFSETTO:+0000
TZNAME:GMT
DTSTART:20181028T010000
END:STANDARD
BEGIN:DAYLIGHT
TZOFFSETFROM:+0000
TZOFFSETTO:+0100
TZNAME:BST
DTSTART:20190331T010000
END:DAYLIGHT
BEGIN:STANDARD
TZOFFSETFROM:+0100
TZOFFSETTO:+0000
TZNAME:GMT
DTSTART:20191027T010000
END:STANDARD
BEGIN:DAYLIGHT
TZOFFSETFROM:+0000
TZOFFSETTO:+0100
TZNAME:BST
DTSTART:20200329T010000
END:DAYLIGHT
BEGIN:STANDARD
TZOFFSETFROM:+0100
TZOFFSETTO:+0000
TZNAME:GMT
DTSTART:20201025T010000
END:STANDARD
END:VTIMEZONE
BEGIN:VEVENT
DTSTART;TZID=Europe/London:20191224T160000
DTEND;TZID=Europe/London:20191224T170000
DTSTAMP:20260425T152028
CREATED:20191215T164933Z
LAST-MODIFIED:20191215T164933Z
UID:5374-1577203200-1577206800@www.westdartmoor.church
SUMMARY:Mission Community Crib Service at 4pm
DESCRIPTION:Come and join the family lay led service at St Paul’s Church – there will be a dramatic representation of the Christmas story with all ages involved. If you would like to come in costume (angels\, shepherds\, villagers are always welcome) you can join in. \nStart your Christmas festivities with a joyful visit to see Mary\, Joseph and baby Jesus.
URL:https://www.westdartmoor.church/event/mission-community-crib-service-at-4pm/
LOCATION:St Paul’s Church\, Yelverton\, Yelverton\, Devon\, PL20 6HQ\, United Kingdom
CATEGORIES:Church Service,Fellowship
END:VEVENT
BEGIN:VEVENT
DTSTART;TZID=Europe/London:20191224T230000
DTEND;TZID=Europe/London:20191224T235900
DTSTAMP:20260425T152028
CREATED:20191215T165747Z
LAST-MODIFIED:20191215T165747Z
UID:5378-1577228400-1577231940@www.westdartmoor.church
SUMMARY:Midnight Mass
DESCRIPTION:Come and celebrate the start of Christmas Day at either St Paul’s Yelverton or St John’s Horrabridge. \nBoth communion services start at 11pm.
URL:https://www.westdartmoor.church/event/midnight-mass/
LOCATION:Devon
CATEGORIES:Church Service,Fellowship
END:VEVENT
END:VCALENDAR