BEGIN:VCALENDAR
VERSION:2.0
PRODID:-//West Dartmoor Mission Community - ECPv6.15.20//NONSGML v1.0//EN
CALSCALE:GREGORIAN
METHOD:PUBLISH
X-ORIGINAL-URL:https://www.westdartmoor.church
X-WR-CALDESC:Events for West Dartmoor Mission Community
REFRESH-INTERVAL;VALUE=DURATION:PT1H
X-Robots-Tag:noindex
X-PUBLISHED-TTL:PT1H
BEGIN:VTIMEZONE
TZID:Europe/London
BEGIN:DAYLIGHT
TZOFFSETFROM:+0000
TZOFFSETTO:+0100
TZNAME:BST
DTSTART:20210328T010000
END:DAYLIGHT
BEGIN:STANDARD
TZOFFSETFROM:+0100
TZOFFSETTO:+0000
TZNAME:GMT
DTSTART:20211031T010000
END:STANDARD
BEGIN:DAYLIGHT
TZOFFSETFROM:+0000
TZOFFSETTO:+0100
TZNAME:BST
DTSTART:20220327T010000
END:DAYLIGHT
BEGIN:STANDARD
TZOFFSETFROM:+0100
TZOFFSETTO:+0000
TZNAME:GMT
DTSTART:20221030T010000
END:STANDARD
BEGIN:DAYLIGHT
TZOFFSETFROM:+0000
TZOFFSETTO:+0100
TZNAME:BST
DTSTART:20230326T010000
END:DAYLIGHT
BEGIN:STANDARD
TZOFFSETFROM:+0100
TZOFFSETTO:+0000
TZNAME:GMT
DTSTART:20231029T010000
END:STANDARD
END:VTIMEZONE
BEGIN:VEVENT
DTSTART;TZID=Europe/London:20220605T160000
DTEND;TZID=Europe/London:20220605T170000
DTSTAMP:20260421T191209
CREATED:20220503T141136Z
LAST-MODIFIED:20220503T141136Z
UID:8579-1654444800-1654448400@www.westdartmoor.church
SUMMARY:Festival service at St Leonard's Sheepstor at 4pm
DESCRIPTION:A combination of poetry \,readings \,scripture and song to celebrate creation and the long reign of Queen Elizabeth 2nd . Light refreshments following the service . All very welcome .
URL:https://www.westdartmoor.church/event/festival-service-at-st-leonards-sheepstor-at-4pm/
LOCATION:St Leonard’s Church\, Sheepstor\, Sheepstor\, Devon\, United Kingdom
CATEGORIES:Church Service,Fellowship
END:VEVENT
BEGIN:VEVENT
DTSTART;TZID=Europe/London:20220615T120000
DTEND;TZID=Europe/London:20220615T130000
DTSTAMP:20260421T191209
CREATED:20220611T174757Z
LAST-MODIFIED:20220611T174757Z
UID:8665-1655294400-1655298000@www.westdartmoor.church
SUMMARY:Still Waters - Contemplative Prayer Group
DESCRIPTION:Click here to see the details
URL:https://www.westdartmoor.church/event/still-waters-contemplative-prayer-group-20/
LOCATION:St Paul’s Church\, Yelverton\, Yelverton\, Devon\, PL20 6HQ\, United Kingdom
CATEGORIES:Fellowship,prayer
END:VEVENT
BEGIN:VEVENT
DTSTART;TZID=Europe/London:20220615T193000
DTEND;TZID=Europe/London:20220615T210000
DTSTAMP:20260421T191209
CREATED:20220611T174421Z
LAST-MODIFIED:20220611T174421Z
UID:8654-1655321400-1655326800@www.westdartmoor.church
SUMMARY:Bible Group
DESCRIPTION:Bible group meets every Wednesday on Zoom\, led by Martin Jury\, from 7.30pm until 9pm. All are welcome to join us.\nContact Martin on martinwestdartmoor@gmail.com for more information and to request a link for the meetings.
URL:https://www.westdartmoor.church/event/bible-group-2/
LOCATION:Devon
CATEGORIES:Bible Study,Fellowship,Friendship
END:VEVENT
BEGIN:VEVENT
DTSTART;TZID=Europe/London:20220622T193000
DTEND;TZID=Europe/London:20220622T210000
DTSTAMP:20260421T191209
CREATED:20220611T174437Z
LAST-MODIFIED:20220611T174437Z
UID:8656-1655926200-1655931600@www.westdartmoor.church
SUMMARY:Bible Group
DESCRIPTION:Bible group meets every Wednesday on Zoom\, led by Martin Jury\, from 7.30pm until 9pm. All are welcome to join us.\nContact Martin on martinwestdartmoor@gmail.com for more information and to request a link for the meetings.
URL:https://www.westdartmoor.church/event/bible-group-3/
LOCATION:Devon
CATEGORIES:Bible Study,Fellowship,Friendship
END:VEVENT
BEGIN:VEVENT
DTSTART;TZID=Europe/London:20220629T120000
DTEND;TZID=Europe/London:20220629T130000
DTSTAMP:20260421T191209
CREATED:20220611T174823Z
LAST-MODIFIED:20220611T174823Z
UID:8667-1656504000-1656507600@www.westdartmoor.church
SUMMARY:Still Waters - Contemplative Prayer Group
DESCRIPTION:Click here to see the details
URL:https://www.westdartmoor.church/event/still-waters-contemplative-prayer-group-21/
LOCATION:St Paul’s Church\, Yelverton\, Yelverton\, Devon\, PL20 6HQ\, United Kingdom
CATEGORIES:Fellowship,prayer
END:VEVENT
BEGIN:VEVENT
DTSTART;TZID=Europe/London:20220629T193000
DTEND;TZID=Europe/London:20220629T210000
DTSTAMP:20260421T191209
CREATED:20220611T174457Z
LAST-MODIFIED:20220611T174457Z
UID:8658-1656531000-1656536400@www.westdartmoor.church
SUMMARY:Bible Group
DESCRIPTION:Bible group meets every Wednesday on Zoom\, led by Martin Jury\, from 7.30pm until 9pm. All are welcome to join us.\nContact Martin on martinwestdartmoor@gmail.com for more information and to request a link for the meetings.
URL:https://www.westdartmoor.church/event/bible-group-4/
LOCATION:Devon
CATEGORIES:Bible Study,Fellowship,Friendship
END:VEVENT
END:VCALENDAR