BEGIN:VCALENDAR
VERSION:2.0
PRODID:-//West Dartmoor Mission Community - ECPv6.15.20//NONSGML v1.0//EN
CALSCALE:GREGORIAN
METHOD:PUBLISH
X-WR-CALNAME:West Dartmoor Mission Community
X-ORIGINAL-URL:https://www.westdartmoor.church
X-WR-CALDESC:Events for West Dartmoor Mission Community
REFRESH-INTERVAL;VALUE=DURATION:PT1H
X-Robots-Tag:noindex
X-PUBLISHED-TTL:PT1H
BEGIN:VTIMEZONE
TZID:Europe/London
BEGIN:DAYLIGHT
TZOFFSETFROM:+0000
TZOFFSETTO:+0100
TZNAME:BST
DTSTART:20220327T010000
END:DAYLIGHT
BEGIN:STANDARD
TZOFFSETFROM:+0100
TZOFFSETTO:+0000
TZNAME:GMT
DTSTART:20221030T010000
END:STANDARD
BEGIN:DAYLIGHT
TZOFFSETFROM:+0000
TZOFFSETTO:+0100
TZNAME:BST
DTSTART:20230326T010000
END:DAYLIGHT
BEGIN:STANDARD
TZOFFSETFROM:+0100
TZOFFSETTO:+0000
TZNAME:GMT
DTSTART:20231029T010000
END:STANDARD
BEGIN:DAYLIGHT
TZOFFSETFROM:+0000
TZOFFSETTO:+0100
TZNAME:BST
DTSTART:20240331T010000
END:DAYLIGHT
BEGIN:STANDARD
TZOFFSETFROM:+0100
TZOFFSETTO:+0000
TZNAME:GMT
DTSTART:20241027T010000
END:STANDARD
BEGIN:DAYLIGHT
TZOFFSETFROM:+0000
TZOFFSETTO:+0100
TZNAME:BST
DTSTART:20250330T010000
END:DAYLIGHT
BEGIN:STANDARD
TZOFFSETFROM:+0100
TZOFFSETTO:+0000
TZNAME:GMT
DTSTART:20251026T010000
END:STANDARD
BEGIN:DAYLIGHT
TZOFFSETFROM:+0000
TZOFFSETTO:+0100
TZNAME:BST
DTSTART:20260329T010000
END:DAYLIGHT
BEGIN:STANDARD
TZOFFSETFROM:+0100
TZOFFSETTO:+0000
TZNAME:GMT
DTSTART:20261025T010000
END:STANDARD
END:VTIMEZONE
BEGIN:VEVENT
DTSTART;TZID=Europe/London:20250830T140000
DTEND;TZID=Europe/London:20250830T170000
DTSTAMP:20260422T190650
CREATED:20250718T092032Z
LAST-MODIFIED:20250815T085037Z
UID:10789-1756562400-1756573200@www.westdartmoor.church
SUMMARY:Cream Teas (Sweet and savoury)
DESCRIPTION:Cream tea (sweet and savoury) with Sale of Plants and Second-Hand Books. Sat 30 Aug 1400-1700\, at St John’s Church\, Horrabridge. Proceeds to Church funds. All welcome.
URL:https://www.westdartmoor.church/event/cream-teas-14/
LOCATION:St John the Baptist Horrabridge\, Walkhampton Road\, Horrabridge\, Devon\, PL20 7RF\, United Kingdom
CATEGORIES:Cream Tea,Fellowship,Friendship
END:VEVENT
BEGIN:VEVENT
DTSTART;TZID=Europe/London:20250817T140000
DTEND;TZID=Europe/London:20250817T163000
DTSTAMP:20260422T190650
CREATED:20250328T111017Z
LAST-MODIFIED:20250328T111017Z
UID:10681-1755439200-1755448200@www.westdartmoor.church
SUMMARY:Cream Teas
DESCRIPTION:This year’s monthly teas will finish on Sun 17 August from 1400 -1630 in St Paul’s Church Hall.
URL:https://www.westdartmoor.church/event/cream-teas-13/
LOCATION:St Paul’s Church Hall\, St Paul's Church Hall\, Yelverton\, Devon\, PL20 6AB\, United Kingdom
CATEGORIES:Cream Tea,Fellowship,Friendship
END:VEVENT
BEGIN:VEVENT
DTSTART;TZID=Europe/London:20250720T140000
DTEND;TZID=Europe/London:20250720T163000
DTSTAMP:20260422T190650
CREATED:20250328T110930Z
LAST-MODIFIED:20250328T110930Z
UID:10679-1753020000-1753029000@www.westdartmoor.church
SUMMARY:Cream Teas
DESCRIPTION:This year’s monthly teas will continue on Sun 20 July from 1400 -1630 in St Paul’s Church Hall.
URL:https://www.westdartmoor.church/event/cream-teas-12/
LOCATION:St Paul’s Church Hall\, St Paul's Church Hall\, Yelverton\, Devon\, PL20 6AB\, United Kingdom
CATEGORIES:Cream Tea,Fellowship,Friendship
END:VEVENT
BEGIN:VEVENT
DTSTART;TZID=Europe/London:20250629T143000
DTEND;TZID=Europe/London:20250629T170000
DTSTAMP:20260422T190650
CREATED:20250408T104018Z
LAST-MODIFIED:20250410T165743Z
UID:10700-1751207400-1751216400@www.westdartmoor.church
SUMMARY:Open Garden and Cream Tea
DESCRIPTION:
URL:https://www.westdartmoor.church/event/open-garden-and-cream-tea/
LOCATION:Uphill Farm\, Yelverton\, PL20 6DF
CATEGORIES:Cream Tea,Fellowship,Friendship
END:VEVENT
BEGIN:VEVENT
DTSTART;TZID=Europe/London:20250615T140000
DTEND;TZID=Europe/London:20250615T163000
DTSTAMP:20260422T190650
CREATED:20250328T110656Z
LAST-MODIFIED:20250328T110851Z
UID:10675-1749996000-1750005000@www.westdartmoor.church
SUMMARY:Cream Teas
DESCRIPTION:This year’s monthly teas will continue on Sun 15 June from 1400 -1630 in St Paul’s Church Hall.
URL:https://www.westdartmoor.church/event/cream-teas-11/
LOCATION:St Paul’s Church Hall\, St Paul's Church Hall\, Yelverton\, Devon\, PL20 6AB\, United Kingdom
CATEGORIES:Cream Tea,Fellowship,Friendship
END:VEVENT
BEGIN:VEVENT
DTSTART;TZID=Europe/London:20250518T140000
DTEND;TZID=Europe/London:20250518T163000
DTSTAMP:20260422T190650
CREATED:20250313T173250Z
LAST-MODIFIED:20250313T173250Z
UID:10655-1747576800-1747585800@www.westdartmoor.church
SUMMARY:Cream Teas
DESCRIPTION:This year’s monthly teas will begin on Sun 18 May from 1400 -1630 in St Paul’s Church Hall.
URL:https://www.westdartmoor.church/event/cream-teas-10/
LOCATION:St Paul’s Church Hall\, St Paul's Church Hall\, Yelverton\, Devon\, PL20 6AB\, United Kingdom
CATEGORIES:Cream Tea,Fellowship,Friendship
END:VEVENT
BEGIN:VEVENT
DTSTART;TZID=Europe/London:20250510T140000
DTEND;TZID=Europe/London:20250510T160000
DTSTAMP:20260422T190650
CREATED:20250415T140316Z
LAST-MODIFIED:20250415T140316Z
UID:10717-1746885600-1746892800@www.westdartmoor.church
SUMMARY:NSPCC plant sale and cream tea
DESCRIPTION:The NSPCC is holding a plant sale on the Saturday afternoon between 2-4pm at St Paul’s Church Hall Yelverton
URL:https://www.westdartmoor.church/event/nspcc-plant-sale-and-cream-tea/
LOCATION:St Paul’s Church Hall\, St Paul's Church Hall\, Yelverton\, Devon\, PL20 6AB\, United Kingdom
CATEGORIES:Cream Tea,Fellowship,Friendship
END:VEVENT
BEGIN:VEVENT
DTSTART;TZID=Europe/London:20240818T140000
DTEND;TZID=Europe/London:20240818T163000
DTSTAMP:20260422T190650
CREATED:20240617T191324Z
LAST-MODIFIED:20240617T191324Z
UID:10265-1723989600-1723998600@www.westdartmoor.church
SUMMARY:Cream tea at St Paul's
DESCRIPTION:Sunday 18th August 2pm until 4.30pm \nCome and join us
URL:https://www.westdartmoor.church/event/cream-tea-at-st-pauls-3/
LOCATION:St Paul’s Church Hall\, St Paul's Church Hall\, Yelverton\, Devon\, PL20 6AB\, United Kingdom
CATEGORIES:Cream Tea,Fellowship,Friendship
END:VEVENT
BEGIN:VEVENT
DTSTART;TZID=Europe/London:20240721T140000
DTEND;TZID=Europe/London:20240721T163000
DTSTAMP:20260422T190650
CREATED:20240617T191225Z
LAST-MODIFIED:20240617T191245Z
UID:10262-1721570400-1721579400@www.westdartmoor.church
SUMMARY:Cream tea at St Paul's
DESCRIPTION:Sunday 21st July 2pm until 4.30pm \nCome and join us
URL:https://www.westdartmoor.church/event/cream-tea-at-st-pauls-2/
LOCATION:St Paul’s Church Hall\, St Paul's Church Hall\, Yelverton\, Devon\, PL20 6AB\, United Kingdom
CATEGORIES:Cream Tea,Fellowship,Friendship
END:VEVENT
BEGIN:VEVENT
DTSTART;TZID=Europe/London:20240616T140000
DTEND;TZID=Europe/London:20240616T163000
DTSTAMP:20260422T190650
CREATED:20240609T104649Z
LAST-MODIFIED:20240609T104649Z
UID:10249-1718546400-1718555400@www.westdartmoor.church
SUMMARY:Cream tea at St Paul's
DESCRIPTION:Sunday 16th June 2pm until 4.30pm \nCome and join us
URL:https://www.westdartmoor.church/event/cream-tea-at-st-pauls/
LOCATION:St Paul’s Church Hall\, St Paul's Church Hall\, Yelverton\, Devon\, PL20 6AB\, United Kingdom
CATEGORIES:Cream Tea,Fellowship,Friendship
END:VEVENT
BEGIN:VEVENT
DTSTART;TZID=Europe/London:20230730T143000
DTEND;TZID=Europe/London:20230730T163000
DTSTAMP:20260422T190650
CREATED:20230718T072813Z
LAST-MODIFIED:20230718T072813Z
UID:9642-1690727400-1690734600@www.westdartmoor.church
SUMMARY:Cream Tea at St John's Horrabridge
DESCRIPTION:Come and enjoy a free Cream Tea on Sunday 30th July between 1430 and 1630
URL:https://www.westdartmoor.church/event/cream-tea-at-st-johns-horrabridge/
LOCATION:St John the Baptist Horrabridge\, Walkhampton Road\, Horrabridge\, Devon\, PL20 7RF\, United Kingdom
CATEGORIES:Cream Tea,Fellowship,Friendship
END:VEVENT
END:VCALENDAR