BEGIN:VCALENDAR
VERSION:2.0
PRODID:-//West Dartmoor Mission Community - ECPv6.15.20//NONSGML v1.0//EN
CALSCALE:GREGORIAN
METHOD:PUBLISH
X-ORIGINAL-URL:https://www.westdartmoor.church
X-WR-CALDESC:Events for West Dartmoor Mission Community
REFRESH-INTERVAL;VALUE=DURATION:PT1H
X-Robots-Tag:noindex
X-PUBLISHED-TTL:PT1H
BEGIN:VTIMEZONE
TZID:Europe/London
BEGIN:DAYLIGHT
TZOFFSETFROM:+0000
TZOFFSETTO:+0100
TZNAME:BST
DTSTART:20220327T010000
END:DAYLIGHT
BEGIN:STANDARD
TZOFFSETFROM:+0100
TZOFFSETTO:+0000
TZNAME:GMT
DTSTART:20221030T010000
END:STANDARD
BEGIN:DAYLIGHT
TZOFFSETFROM:+0000
TZOFFSETTO:+0100
TZNAME:BST
DTSTART:20230326T010000
END:DAYLIGHT
BEGIN:STANDARD
TZOFFSETFROM:+0100
TZOFFSETTO:+0000
TZNAME:GMT
DTSTART:20231029T010000
END:STANDARD
BEGIN:DAYLIGHT
TZOFFSETFROM:+0000
TZOFFSETTO:+0100
TZNAME:BST
DTSTART:20240331T010000
END:DAYLIGHT
BEGIN:STANDARD
TZOFFSETFROM:+0100
TZOFFSETTO:+0000
TZNAME:GMT
DTSTART:20241027T010000
END:STANDARD
END:VTIMEZONE
BEGIN:VEVENT
DTSTART;TZID=Europe/London:20230513T140000
DTEND;TZID=Europe/London:20230513T210000
DTSTAMP:20260425T184753
CREATED:20230511T111001Z
LAST-MODIFIED:20230511T111001Z
UID:9474-1683986400-1684011600@www.westdartmoor.church
SUMMARY:Callington Community Gospel Choir  Workshop & Concert
DESCRIPTION:Callington Community Gospel Choir \nWorkshop & Concert\nSaturday 13 th May\nat St Andrew’s Church\nBere Ferrers. \n2.00 – 5.00 for the workshop \n(open to everyone who likes a good sing) \n7.00pm for the concert. \nBoth events are free\, but donations appreciated for \nYouth 2 Youth \nContact Nick Law nick123law@gmail.com for more information. \nThis event is sponsored by Robin Gallup Music Trust.
URL:https://www.westdartmoor.church/event/callington-community-gospel-choir-workshop-concert/
LOCATION:Devon
CATEGORIES:Concert,Fellowship,Friendship
END:VEVENT
BEGIN:VEVENT
DTSTART;TZID=Europe/London:20230520T130000
DTEND;TZID=Europe/London:20230520T160000
DTSTAMP:20260425T184753
CREATED:20230512T103251Z
LAST-MODIFIED:20230513T152833Z
UID:9489-1684587600-1684598400@www.westdartmoor.church
SUMMARY:Come and go Musical afternoon
DESCRIPTION:At St Paul’s Yelverton\, organists will play the renovated organ or piano to support a different way of praying. Pop in any time between 1pm and 4pm. \nThe list of organists is as follows: \n13:00-13:30 Pauline Hamilton-Leggett Organ\n13:30-14:00 Thomas Leigh Piano\n14:00-14:30 David Paddon Organ\n14:30-15:00 Tony Dando Organ\n15:00-15:30 Shaun Brady Organ\n15:30-16:00 Scott Angell Organ
URL:https://www.westdartmoor.church/event/come-and-go-musical-afternoon/
LOCATION:St Paul’s Church\, Yelverton\, Yelverton\, Devon\, PL20 6HQ\, United Kingdom
CATEGORIES:Concert,Fellowship,Friendship,prayer
END:VEVENT
END:VCALENDAR