BEGIN:VCALENDAR
VERSION:2.0
PRODID:-//West Dartmoor Mission Community - ECPv6.15.20//NONSGML v1.0//EN
CALSCALE:GREGORIAN
METHOD:PUBLISH
X-WR-CALNAME:West Dartmoor Mission Community
X-ORIGINAL-URL:https://www.westdartmoor.church
X-WR-CALDESC:Events for West Dartmoor Mission Community
REFRESH-INTERVAL;VALUE=DURATION:PT1H
X-Robots-Tag:noindex
X-PUBLISHED-TTL:PT1H
BEGIN:VTIMEZONE
TZID:Europe/London
BEGIN:DAYLIGHT
TZOFFSETFROM:+0000
TZOFFSETTO:+0100
TZNAME:BST
DTSTART:20210328T010000
END:DAYLIGHT
BEGIN:STANDARD
TZOFFSETFROM:+0100
TZOFFSETTO:+0000
TZNAME:GMT
DTSTART:20211031T010000
END:STANDARD
BEGIN:DAYLIGHT
TZOFFSETFROM:+0000
TZOFFSETTO:+0100
TZNAME:BST
DTSTART:20220327T010000
END:DAYLIGHT
BEGIN:STANDARD
TZOFFSETFROM:+0100
TZOFFSETTO:+0000
TZNAME:GMT
DTSTART:20221030T010000
END:STANDARD
BEGIN:DAYLIGHT
TZOFFSETFROM:+0000
TZOFFSETTO:+0100
TZNAME:BST
DTSTART:20230326T010000
END:DAYLIGHT
BEGIN:STANDARD
TZOFFSETFROM:+0100
TZOFFSETTO:+0000
TZNAME:GMT
DTSTART:20231029T010000
END:STANDARD
END:VTIMEZONE
BEGIN:VEVENT
DTSTART;TZID=Europe/London:20220527T193000
DTEND;TZID=Europe/London:20220527T213000
DTSTAMP:20260422T051137
CREATED:20220512T165133Z
LAST-MODIFIED:20220512T165133Z
UID:8606-1653679800-1653687000@www.westdartmoor.church
SUMMARY:Concert by the Stannary Brass Band
DESCRIPTION:Concert by the Stannary Brass Band will be held in St John’s Church\, Horrabridge\, on Friday 27 May at 7.30pm. Tickets are £10 (£5 under 18s) from Andy Stewart\, 01822 852112 astewart@rivercot.co.uk
URL:https://www.westdartmoor.church/event/concert-by-the-stannary-brass-band/
LOCATION:St John the Baptist Horrabridge\, Walkhampton Road\, Horrabridge\, Devon\, PL20 7RF\, United Kingdom
CATEGORIES:Concert
END:VEVENT
END:VCALENDAR