BEGIN:VCALENDAR
VERSION:2.0
PRODID:-//West Dartmoor Mission Community - ECPv6.15.20//NONSGML v1.0//EN
CALSCALE:GREGORIAN
METHOD:PUBLISH
X-WR-CALNAME:West Dartmoor Mission Community
X-ORIGINAL-URL:https://www.westdartmoor.church
X-WR-CALDESC:Events for West Dartmoor Mission Community
REFRESH-INTERVAL;VALUE=DURATION:PT1H
X-Robots-Tag:noindex
X-PUBLISHED-TTL:PT1H
BEGIN:VTIMEZONE
TZID:Europe/London
BEGIN:DAYLIGHT
TZOFFSETFROM:+0000
TZOFFSETTO:+0100
TZNAME:BST
DTSTART:20220327T010000
END:DAYLIGHT
BEGIN:STANDARD
TZOFFSETFROM:+0100
TZOFFSETTO:+0000
TZNAME:GMT
DTSTART:20221030T010000
END:STANDARD
BEGIN:DAYLIGHT
TZOFFSETFROM:+0000
TZOFFSETTO:+0100
TZNAME:BST
DTSTART:20230326T010000
END:DAYLIGHT
BEGIN:STANDARD
TZOFFSETFROM:+0100
TZOFFSETTO:+0000
TZNAME:GMT
DTSTART:20231029T010000
END:STANDARD
BEGIN:DAYLIGHT
TZOFFSETFROM:+0000
TZOFFSETTO:+0100
TZNAME:BST
DTSTART:20240331T010000
END:DAYLIGHT
BEGIN:STANDARD
TZOFFSETFROM:+0100
TZOFFSETTO:+0000
TZNAME:GMT
DTSTART:20241027T010000
END:STANDARD
END:VTIMEZONE
BEGIN:VEVENT
DTSTART;TZID=Europe/London:20230904T090000
DTEND;TZID=Europe/London:20230904T093000
DTSTAMP:20260423T200118
CREATED:20230825T125905Z
LAST-MODIFIED:20230825T125905Z
UID:9692-1693818000-1693819800@www.westdartmoor.church
SUMMARY:Morning Prayer at St Peter's Meavy
DESCRIPTION:Join the rector for a quiet and reflective 30 minute Morning Prayer service at 9am
URL:https://www.westdartmoor.church/event/morning-prayer-at-st-peters-meavy-6/
LOCATION:St Peter’s Church\, Meavy\, Meavy\, Yelverton\, Devon\, PL20 6PJ\, United Kingdom
CATEGORIES:Church Service
ORGANIZER;CN="Revd Andrew Thomas":MAILTO:rectorwestdartmoor@gmail.com
END:VEVENT
BEGIN:VEVENT
DTSTART;TZID=Europe/London:20230911T090000
DTEND;TZID=Europe/London:20230911T093000
DTSTAMP:20260423T200118
CREATED:20230825T125931Z
LAST-MODIFIED:20230825T125931Z
UID:9694-1694422800-1694424600@www.westdartmoor.church
SUMMARY:Morning Prayer at St Peter's Meavy
DESCRIPTION:Join the rector for a quiet and reflective 30 minute Morning Prayer service at 9am
URL:https://www.westdartmoor.church/event/morning-prayer-at-st-peters-meavy-7/
LOCATION:St Peter’s Church\, Meavy\, Meavy\, Yelverton\, Devon\, PL20 6PJ\, United Kingdom
CATEGORIES:Church Service
ORGANIZER;CN="Revd Andrew Thomas":MAILTO:rectorwestdartmoor@gmail.com
END:VEVENT
BEGIN:VEVENT
DTSTART;TZID=Europe/London:20230918T090000
DTEND;TZID=Europe/London:20230918T093000
DTSTAMP:20260423T200118
CREATED:20230825T130015Z
LAST-MODIFIED:20230825T130015Z
UID:9696-1695027600-1695029400@www.westdartmoor.church
SUMMARY:Morning Prayer at St Peter's Meavy
DESCRIPTION:Join the rector for a quiet and reflective 30 minute Morning Prayer service at 9am
URL:https://www.westdartmoor.church/event/morning-prayer-at-st-peters-meavy-8/
LOCATION:St Peter’s Church\, Meavy\, Meavy\, Yelverton\, Devon\, PL20 6PJ\, United Kingdom
CATEGORIES:Church Service
ORGANIZER;CN="Revd Andrew Thomas":MAILTO:rectorwestdartmoor@gmail.com
END:VEVENT
BEGIN:VEVENT
DTSTART;TZID=Europe/London:20230924T160000
DTEND;TZID=Europe/London:20230924T170000
DTSTAMP:20260423T200118
CREATED:20230915T115624Z
LAST-MODIFIED:20230915T115624Z
UID:9728-1695571200-1695574800@www.westdartmoor.church
SUMMARY:Mission Community Fresh Expression of Worship
DESCRIPTION:Loving with your Life: West Dartmoor Mission Community’s Taizé-style service of prayer and praise at St John’s Horrabridge on Sun 24 September at 1600\, everyone welcome.
URL:https://www.westdartmoor.church/event/mission-community-fresh-expression-of-worship-2/
LOCATION:St John the Baptist Horrabridge\, Walkhampton Road\, Horrabridge\, Devon\, PL20 7RF\, United Kingdom
CATEGORIES:Church Service,Fellowship,Friendship
END:VEVENT
BEGIN:VEVENT
DTSTART;TZID=Europe/London:20230925T090000
DTEND;TZID=Europe/London:20230925T093000
DTSTAMP:20260423T200118
CREATED:20230825T130038Z
LAST-MODIFIED:20230825T130038Z
UID:9698-1695632400-1695634200@www.westdartmoor.church
SUMMARY:Morning Prayer at St Peter's Meavy
DESCRIPTION:Join the rector for a quiet and reflective 30 minute Morning Prayer service at 9am
URL:https://www.westdartmoor.church/event/morning-prayer-at-st-peters-meavy-9/
LOCATION:St Peter’s Church\, Meavy\, Meavy\, Yelverton\, Devon\, PL20 6PJ\, United Kingdom
CATEGORIES:Church Service
ORGANIZER;CN="Revd Andrew Thomas":MAILTO:rectorwestdartmoor@gmail.com
END:VEVENT
BEGIN:VEVENT
DTSTART;TZID=Europe/London:20230929T190000
DTEND;TZID=Europe/London:20230929T200000
DTSTAMP:20260423T200118
CREATED:20230922T093340Z
LAST-MODIFIED:20230922T093340Z
UID:9749-1696014000-1696017600@www.westdartmoor.church
SUMMARY:Harvest at St Leonard's\, Sheepstor
DESCRIPTION:Sheepstor Service on Fri 29 Sep at 1900 will be a Joyous Harvest festival service of readings\, prayers\, poetry and song. All welcome.
URL:https://www.westdartmoor.church/event/harvest-at-st-leonards-sheepstor/
LOCATION:St Leonard’s Church\, Sheepstor\, Sheepstor\, Devon\, United Kingdom
CATEGORIES:Church Service,Fellowship,Friendship
END:VEVENT
END:VCALENDAR