BEGIN:VCALENDAR
VERSION:2.0
PRODID:-//West Dartmoor Mission Community - ECPv6.15.20//NONSGML v1.0//EN
CALSCALE:GREGORIAN
METHOD:PUBLISH
X-WR-CALNAME:West Dartmoor Mission Community
X-ORIGINAL-URL:https://www.westdartmoor.church
X-WR-CALDESC:Events for West Dartmoor Mission Community
REFRESH-INTERVAL;VALUE=DURATION:PT1H
X-Robots-Tag:noindex
X-PUBLISHED-TTL:PT1H
BEGIN:VTIMEZONE
TZID:Europe/London
BEGIN:DAYLIGHT
TZOFFSETFROM:+0000
TZOFFSETTO:+0100
TZNAME:BST
DTSTART:20220327T010000
END:DAYLIGHT
BEGIN:STANDARD
TZOFFSETFROM:+0100
TZOFFSETTO:+0000
TZNAME:GMT
DTSTART:20221030T010000
END:STANDARD
BEGIN:DAYLIGHT
TZOFFSETFROM:+0000
TZOFFSETTO:+0100
TZNAME:BST
DTSTART:20230326T010000
END:DAYLIGHT
BEGIN:STANDARD
TZOFFSETFROM:+0100
TZOFFSETTO:+0000
TZNAME:GMT
DTSTART:20231029T010000
END:STANDARD
BEGIN:DAYLIGHT
TZOFFSETFROM:+0000
TZOFFSETTO:+0100
TZNAME:BST
DTSTART:20240331T010000
END:DAYLIGHT
BEGIN:STANDARD
TZOFFSETFROM:+0100
TZOFFSETTO:+0000
TZNAME:GMT
DTSTART:20241027T010000
END:STANDARD
END:VTIMEZONE
BEGIN:VEVENT
DTSTART;TZID=Europe/London:20230206T090000
DTEND;TZID=Europe/London:20230206T093000
DTSTAMP:20260423T023028
CREATED:20230107T090318Z
LAST-MODIFIED:20230201T183556Z
UID:9197-1675674000-1675675800@www.westdartmoor.church
SUMMARY:Morning Prayer at St Leonard's Sheepstor
DESCRIPTION:Join the rector for a quiet and reflective 30 minute Morning Prayer service at 9am
URL:https://www.westdartmoor.church/event/morning-prayer-at-st-marys-sampford-spiney-2/
LOCATION:St Mary’s Sampford Spiney
CATEGORIES:Church Service
ORGANIZER;CN="Revd Andrew Thomas":MAILTO:rectorwestdartmoor@gmail.com
END:VEVENT
BEGIN:VEVENT
DTSTART;TZID=Europe/London:20230213T090000
DTEND;TZID=Europe/London:20230213T093000
DTSTAMP:20260423T023028
CREATED:20230107T090353Z
LAST-MODIFIED:20230201T183621Z
UID:9199-1676278800-1676280600@www.westdartmoor.church
SUMMARY:Morning Prayer at St Leonard's Sheepstor
DESCRIPTION:Join the rector for a quiet and reflective 30 minute Morning Prayer service at 9am
URL:https://www.westdartmoor.church/event/morning-prayer-at-st-marys-sampford-spiney-3/
LOCATION:St Mary’s Sampford Spiney
CATEGORIES:Church Service
ORGANIZER;CN="Revd Andrew Thomas":MAILTO:rectorwestdartmoor@gmail.com
END:VEVENT
BEGIN:VEVENT
DTSTART;TZID=Europe/London:20230220T090000
DTEND;TZID=Europe/London:20230220T093000
DTSTAMP:20260423T023028
CREATED:20230107T090416Z
LAST-MODIFIED:20230201T183647Z
UID:9201-1676883600-1676885400@www.westdartmoor.church
SUMMARY:Morning Prayer at St Leonard's Sheepstor
DESCRIPTION:Join the rector for a quiet and reflective 30 minute Morning Prayer service at 9am
URL:https://www.westdartmoor.church/event/morning-prayer-at-st-marys-sampford-spiney-4/
LOCATION:St Mary’s Sampford Spiney
CATEGORIES:Church Service
ORGANIZER;CN="Revd Andrew Thomas":MAILTO:rectorwestdartmoor@gmail.com
END:VEVENT
BEGIN:VEVENT
DTSTART;TZID=Europe/London:20230222T110000
DTEND;TZID=Europe/London:20230222T120000
DTSTAMP:20260423T023028
CREATED:20230221T121027Z
LAST-MODIFIED:20230221T121027Z
UID:9309-1677063600-1677067200@www.westdartmoor.church
SUMMARY:Ashing service
DESCRIPTION:All are welcome to join this service at St Leonard’s Sheepstor at 1100 to mark the start of Lent
URL:https://www.westdartmoor.church/event/ashing-service/
LOCATION:St Leonard’s Church\, Sheepstor\, Sheepstor\, Devon\, United Kingdom
CATEGORIES:Church Service
END:VEVENT
BEGIN:VEVENT
DTSTART;TZID=Europe/London:20230222T180000
DTEND;TZID=Europe/London:20230222T190000
DTSTAMP:20260423T023028
CREATED:20230221T121209Z
LAST-MODIFIED:20230221T121209Z
UID:9311-1677088800-1677092400@www.westdartmoor.church
SUMMARY:Eucharist service to mark the start of Lent
DESCRIPTION:All are welcome to start their lent journey with a Eucharist Service at 1800 at St Paul’s Yelverton. \n  \n 
URL:https://www.westdartmoor.church/event/eucharist-service-to-mark-the-start-of-lent/
LOCATION:St Paul’s Church\, Yelverton\, Yelverton\, Devon\, PL20 6HQ\, United Kingdom
CATEGORIES:Church Service
END:VEVENT
BEGIN:VEVENT
DTSTART;TZID=Europe/London:20230226T180000
DTEND;TZID=Europe/London:20230226T190000
DTSTAMP:20260423T023028
CREATED:20230216T185222Z
LAST-MODIFIED:20230216T185222Z
UID:9295-1677434400-1677438000@www.westdartmoor.church
SUMMARY:Called to be whole: coming to Christ for healing
DESCRIPTION:Lent is a time for wholeness and renewal. Lent 1\, Sunday 26th February\, 6pm\,\nMission Community Healing Eucharist at St John’s Horrabridge.\nEveryone welcome.
URL:https://www.westdartmoor.church/event/called-to-be-whole-coming-to-christ-for-healing/
LOCATION:St John the Baptist Horrabridge\, Walkhampton Road\, Horrabridge\, Devon\, PL20 7RF\, United Kingdom
CATEGORIES:Church Service,Fellowship
END:VEVENT
BEGIN:VEVENT
DTSTART;TZID=Europe/London:20230227T090000
DTEND;TZID=Europe/London:20230227T093000
DTSTAMP:20260423T023028
CREATED:20230107T090438Z
LAST-MODIFIED:20230201T183708Z
UID:9203-1677488400-1677490200@www.westdartmoor.church
SUMMARY:Morning Prayer at St Leonard's Sheepstor
DESCRIPTION:Join the rector for a quiet and reflective 30 minute Morning Prayer service at 9am
URL:https://www.westdartmoor.church/event/morning-prayer-at-st-marys-sampford-spiney-5/
LOCATION:St Mary’s Sampford Spiney
CATEGORIES:Church Service
ORGANIZER;CN="Revd Andrew Thomas":MAILTO:rectorwestdartmoor@gmail.com
END:VEVENT
END:VCALENDAR