BEGIN:VCALENDAR
VERSION:2.0
PRODID:-//West Dartmoor Mission Community - ECPv6.15.20//NONSGML v1.0//EN
CALSCALE:GREGORIAN
METHOD:PUBLISH
X-ORIGINAL-URL:https://www.westdartmoor.church
X-WR-CALDESC:Events for West Dartmoor Mission Community
REFRESH-INTERVAL;VALUE=DURATION:PT1H
X-Robots-Tag:noindex
X-PUBLISHED-TTL:PT1H
BEGIN:VTIMEZONE
TZID:Europe/London
BEGIN:DAYLIGHT
TZOFFSETFROM:+0000
TZOFFSETTO:+0100
TZNAME:BST
DTSTART:20230326T010000
END:DAYLIGHT
BEGIN:STANDARD
TZOFFSETFROM:+0100
TZOFFSETTO:+0000
TZNAME:GMT
DTSTART:20231029T010000
END:STANDARD
BEGIN:DAYLIGHT
TZOFFSETFROM:+0000
TZOFFSETTO:+0100
TZNAME:BST
DTSTART:20240331T010000
END:DAYLIGHT
BEGIN:STANDARD
TZOFFSETFROM:+0100
TZOFFSETTO:+0000
TZNAME:GMT
DTSTART:20241027T010000
END:STANDARD
BEGIN:DAYLIGHT
TZOFFSETFROM:+0000
TZOFFSETTO:+0100
TZNAME:BST
DTSTART:20250330T010000
END:DAYLIGHT
BEGIN:STANDARD
TZOFFSETFROM:+0100
TZOFFSETTO:+0000
TZNAME:GMT
DTSTART:20251026T010000
END:STANDARD
END:VTIMEZONE
BEGIN:VEVENT
DTSTART;TZID=Europe/London:20241204T120000
DTEND;TZID=Europe/London:20241204T140000
DTSTAMP:20260423T192425
CREATED:20241107T162909Z
LAST-MODIFIED:20241107T162909Z
UID:10450-1733313600-1733320800@www.westdartmoor.church
SUMMARY:Advent Study
DESCRIPTION:
URL:https://www.westdartmoor.church/event/advent-study-2/
LOCATION:St Paul’s Church\, Yelverton\, Yelverton\, Devon\, PL20 6HQ\, United Kingdom
CATEGORIES:Bible Study,Fellowship,Friendship
ORGANIZER;CN="Revd Andrew Thomas":MAILTO:rectorwestdartmoor@gmail.com
END:VEVENT
BEGIN:VEVENT
DTSTART;TZID=Europe/London:20241204T193000
DTEND;TZID=Europe/London:20241204T213000
DTSTAMP:20260423T192425
CREATED:20241107T163141Z
LAST-MODIFIED:20241107T163141Z
UID:10458-1733340600-1733347800@www.westdartmoor.church
SUMMARY:Advent Study
DESCRIPTION:
URL:https://www.westdartmoor.church/event/advent-study-6/
LOCATION:Devon
CATEGORIES:Bible Study,Fellowship,Friendship
END:VEVENT
BEGIN:VEVENT
DTSTART;TZID=Europe/London:20241211T120000
DTEND;TZID=Europe/London:20241211T140000
DTSTAMP:20260423T192425
CREATED:20241107T162940Z
LAST-MODIFIED:20241107T162940Z
UID:10452-1733918400-1733925600@www.westdartmoor.church
SUMMARY:Advent Study
DESCRIPTION:
URL:https://www.westdartmoor.church/event/advent-study-3/
LOCATION:St Paul’s Church\, Yelverton\, Yelverton\, Devon\, PL20 6HQ\, United Kingdom
CATEGORIES:Bible Study,Fellowship,Friendship
ORGANIZER;CN="Revd Andrew Thomas":MAILTO:rectorwestdartmoor@gmail.com
END:VEVENT
BEGIN:VEVENT
DTSTART;TZID=Europe/London:20241211T193000
DTEND;TZID=Europe/London:20241211T213000
DTSTAMP:20260423T192425
CREATED:20241107T163204Z
LAST-MODIFIED:20241107T163204Z
UID:10460-1733945400-1733952600@www.westdartmoor.church
SUMMARY:Advent Study
DESCRIPTION:
URL:https://www.westdartmoor.church/event/advent-study-7/
LOCATION:Devon
CATEGORIES:Bible Study,Fellowship,Friendship
END:VEVENT
BEGIN:VEVENT
DTSTART;TZID=Europe/London:20241218T120000
DTEND;TZID=Europe/London:20241218T140000
DTSTAMP:20260423T192425
CREATED:20241107T163009Z
LAST-MODIFIED:20241107T163009Z
UID:10454-1734523200-1734530400@www.westdartmoor.church
SUMMARY:Advent Study
DESCRIPTION:
URL:https://www.westdartmoor.church/event/advent-study-4/
LOCATION:St Paul’s Church\, Yelverton\, Yelverton\, Devon\, PL20 6HQ\, United Kingdom
CATEGORIES:Bible Study,Fellowship,Friendship
ORGANIZER;CN="Revd Andrew Thomas":MAILTO:rectorwestdartmoor@gmail.com
END:VEVENT
BEGIN:VEVENT
DTSTART;TZID=Europe/London:20241218T193000
DTEND;TZID=Europe/London:20241218T213000
DTSTAMP:20260423T192425
CREATED:20241107T163225Z
LAST-MODIFIED:20241107T163225Z
UID:10462-1734550200-1734557400@www.westdartmoor.church
SUMMARY:Advent Study
DESCRIPTION:
URL:https://www.westdartmoor.church/event/advent-study-8/
LOCATION:Devon
CATEGORIES:Bible Study,Fellowship,Friendship
END:VEVENT
END:VCALENDAR