BEGIN:VCALENDAR
VERSION:2.0
PRODID:-//West Dartmoor Mission Community - ECPv6.15.20//NONSGML v1.0//EN
CALSCALE:GREGORIAN
METHOD:PUBLISH
X-ORIGINAL-URL:https://www.westdartmoor.church
X-WR-CALDESC:Events for West Dartmoor Mission Community
REFRESH-INTERVAL;VALUE=DURATION:PT1H
X-Robots-Tag:noindex
X-PUBLISHED-TTL:PT1H
BEGIN:VTIMEZONE
TZID:Europe/London
BEGIN:DAYLIGHT
TZOFFSETFROM:+0000
TZOFFSETTO:+0100
TZNAME:BST
DTSTART:20230326T010000
END:DAYLIGHT
BEGIN:STANDARD
TZOFFSETFROM:+0100
TZOFFSETTO:+0000
TZNAME:GMT
DTSTART:20231029T010000
END:STANDARD
BEGIN:DAYLIGHT
TZOFFSETFROM:+0000
TZOFFSETTO:+0100
TZNAME:BST
DTSTART:20240331T010000
END:DAYLIGHT
BEGIN:STANDARD
TZOFFSETFROM:+0100
TZOFFSETTO:+0000
TZNAME:GMT
DTSTART:20241027T010000
END:STANDARD
BEGIN:DAYLIGHT
TZOFFSETFROM:+0000
TZOFFSETTO:+0100
TZNAME:BST
DTSTART:20250330T010000
END:DAYLIGHT
BEGIN:STANDARD
TZOFFSETFROM:+0100
TZOFFSETTO:+0000
TZNAME:GMT
DTSTART:20251026T010000
END:STANDARD
END:VTIMEZONE
BEGIN:VEVENT
DTSTART;TZID=Europe/London:20240429T090000
DTEND;TZID=Europe/London:20240429T093000
DTSTAMP:20260421T234947
CREATED:20240404T172159Z
LAST-MODIFIED:20240404T172159Z
UID:10147-1714381200-1714383000@www.westdartmoor.church
SUMMARY:Morning Prayer at St Mary's Sampford Spiney
DESCRIPTION:Join the rector for a quiet and reflective 30 minute Morning Prayer service at 9am
URL:https://www.westdartmoor.church/event/morning-prayer-at-st-marys-sampford-spiney-9/
LOCATION:St Mary’s Sampford Spiney
CATEGORIES:Church Service
ORGANIZER;CN="Revd Andrew Thomas":MAILTO:rectorwestdartmoor@gmail.com
END:VEVENT
END:VCALENDAR