BEGIN:VCALENDAR
VERSION:2.0
PRODID:-//West Dartmoor Mission Community - ECPv6.15.20//NONSGML v1.0//EN
CALSCALE:GREGORIAN
METHOD:PUBLISH
X-WR-CALNAME:West Dartmoor Mission Community
X-ORIGINAL-URL:https://www.westdartmoor.church
X-WR-CALDESC:Events for West Dartmoor Mission Community
REFRESH-INTERVAL;VALUE=DURATION:PT1H
X-Robots-Tag:noindex
X-PUBLISHED-TTL:PT1H
BEGIN:VTIMEZONE
TZID:Europe/London
BEGIN:DAYLIGHT
TZOFFSETFROM:+0000
TZOFFSETTO:+0100
TZNAME:BST
DTSTART:20210328T010000
END:DAYLIGHT
BEGIN:STANDARD
TZOFFSETFROM:+0100
TZOFFSETTO:+0000
TZNAME:GMT
DTSTART:20211031T010000
END:STANDARD
BEGIN:DAYLIGHT
TZOFFSETFROM:+0000
TZOFFSETTO:+0100
TZNAME:BST
DTSTART:20220327T010000
END:DAYLIGHT
BEGIN:STANDARD
TZOFFSETFROM:+0100
TZOFFSETTO:+0000
TZNAME:GMT
DTSTART:20221030T010000
END:STANDARD
BEGIN:DAYLIGHT
TZOFFSETFROM:+0000
TZOFFSETTO:+0100
TZNAME:BST
DTSTART:20230326T010000
END:DAYLIGHT
BEGIN:STANDARD
TZOFFSETFROM:+0100
TZOFFSETTO:+0000
TZNAME:GMT
DTSTART:20231029T010000
END:STANDARD
END:VTIMEZONE
BEGIN:VEVENT
DTSTART;TZID=Europe/London:20220828T093000
DTEND;TZID=Europe/London:20220828T170000
DTSTAMP:20260422T045731
CREATED:20220820T085510Z
LAST-MODIFIED:20220820T085510Z
UID:8805-1661679000-1661706000@www.westdartmoor.church
SUMMARY:Sheepdog Trials and Family Dog Show
DESCRIPTION:Sheepdog Trials and Family Dog Show at Playing Field on Plasterdown – Sat 27 Aug. Gates and trials open at 9.30 am. Bar opens\nat midday/hot food and cakes/stalls and bric a brac.
URL:https://www.westdartmoor.church/event/sheepdog-trials-and-family-dog-show/
LOCATION:Plaster Down
CATEGORIES:Fellowship,Friendship
END:VEVENT
BEGIN:VEVENT
DTSTART;TZID=Europe/London:20220828T160000
DTEND;TZID=Europe/London:20220828T180000
DTSTAMP:20260422T045731
CREATED:20220807T175201Z
LAST-MODIFIED:20220807T175201Z
UID:8778-1661702400-1661709600@www.westdartmoor.church
SUMMARY:Cream Teas at St John's
DESCRIPTION:Enjoy the summer sunshine or indoor cool with a cream tea at St John’s Horrabridge 4.00-6.00pm Donations to church funds.
URL:https://www.westdartmoor.church/event/cream-teas-at-st-johns/
LOCATION:St John the Baptist Horrabridge\, Walkhampton Road\, Horrabridge\, Devon\, PL20 7RF\, United Kingdom
CATEGORIES:Fellowship,Friendship
END:VEVENT
BEGIN:VEVENT
DTSTART;TZID=Europe/London:20220828T180000
DTEND;TZID=Europe/London:20220828T183000
DTSTAMP:20260422T045731
CREATED:20220807T175500Z
LAST-MODIFIED:20220807T175500Z
UID:8781-1661709600-1661711400@www.westdartmoor.church
SUMMARY:Praise and Prayer for Climate Justice
DESCRIPTION:Climate change affects us all. Come and join us for a Mission Community Service of Praise and Prayer for Climate Justice at St John’s Horrabridge\, Sunday 28th August at 6.00 pm. Everyone welcome. \nThe service is song\, praise and prayer for Climate Justice\, featuring the song ‘Down to the River to pray’ and a river feature prayer resource. You may know the song from ‘O Brother where art thou’. If you want to google it the Alison Krauss version is a good one.
URL:https://www.westdartmoor.church/event/praise-and-prayer-for-climate-justice/
LOCATION:St John the Baptist Horrabridge\, Walkhampton Road\, Horrabridge\, Devon\, PL20 7RF\, United Kingdom
CATEGORIES:Church Service
END:VEVENT
END:VCALENDAR