BEGIN:VCALENDAR
VERSION:2.0
PRODID:-//West Dartmoor Mission Community - ECPv6.15.20//NONSGML v1.0//EN
CALSCALE:GREGORIAN
METHOD:PUBLISH
X-WR-CALNAME:West Dartmoor Mission Community
X-ORIGINAL-URL:https://www.westdartmoor.church
X-WR-CALDESC:Events for West Dartmoor Mission Community
REFRESH-INTERVAL;VALUE=DURATION:PT1H
X-Robots-Tag:noindex
X-PUBLISHED-TTL:PT1H
BEGIN:VTIMEZONE
TZID:Europe/London
BEGIN:DAYLIGHT
TZOFFSETFROM:+0000
TZOFFSETTO:+0100
TZNAME:BST
DTSTART:20190331T010000
END:DAYLIGHT
BEGIN:STANDARD
TZOFFSETFROM:+0100
TZOFFSETTO:+0000
TZNAME:GMT
DTSTART:20191027T010000
END:STANDARD
BEGIN:DAYLIGHT
TZOFFSETFROM:+0000
TZOFFSETTO:+0100
TZNAME:BST
DTSTART:20200329T010000
END:DAYLIGHT
BEGIN:STANDARD
TZOFFSETFROM:+0100
TZOFFSETTO:+0000
TZNAME:GMT
DTSTART:20201025T010000
END:STANDARD
BEGIN:DAYLIGHT
TZOFFSETFROM:+0000
TZOFFSETTO:+0100
TZNAME:BST
DTSTART:20210328T010000
END:DAYLIGHT
BEGIN:STANDARD
TZOFFSETFROM:+0100
TZOFFSETTO:+0000
TZNAME:GMT
DTSTART:20211031T010000
END:STANDARD
END:VTIMEZONE
BEGIN:VEVENT
DTSTART;TZID=Europe/London:20200726T091500
DTEND;TZID=Europe/London:20200726T101500
DTSTAMP:20260421T150203
CREATED:20200725T094707Z
LAST-MODIFIED:20200726T062226Z
UID:6306-1595754900-1595758500@www.westdartmoor.church
SUMMARY:Sunday Morning Eucharist streaming from 09.15am
DESCRIPTION:Join the Revd Di Caine for a Eucharist Service streaming from St Paul’s with a congregation. \nClick here for the link \nThe service will be an Order 1 service and you can click here for an order of service to use as a guide. each church uses a slightly different version of Common Worship. \n  \n  \n 
URL:https://www.westdartmoor.church/event/sunday-morning-eucharist-streaming-from-09-15am/
LOCATION:St Paul’s Church Hall\, St Paul's Church Hall\, Yelverton\, Devon\, PL20 6AB\, United Kingdom
CATEGORIES:Church Service
END:VEVENT
END:VCALENDAR