BEGIN:VCALENDAR
VERSION:2.0
PRODID:-//West Dartmoor Mission Community - ECPv6.15.20//NONSGML v1.0//EN
CALSCALE:GREGORIAN
METHOD:PUBLISH
X-WR-CALNAME:West Dartmoor Mission Community
X-ORIGINAL-URL:https://www.westdartmoor.church
X-WR-CALDESC:Events for West Dartmoor Mission Community
REFRESH-INTERVAL;VALUE=DURATION:PT1H
X-Robots-Tag:noindex
X-PUBLISHED-TTL:PT1H
BEGIN:VTIMEZONE
TZID:Europe/London
BEGIN:DAYLIGHT
TZOFFSETFROM:+0000
TZOFFSETTO:+0100
TZNAME:BST
DTSTART:20180325T010000
END:DAYLIGHT
BEGIN:STANDARD
TZOFFSETFROM:+0100
TZOFFSETTO:+0000
TZNAME:GMT
DTSTART:20181028T010000
END:STANDARD
BEGIN:DAYLIGHT
TZOFFSETFROM:+0000
TZOFFSETTO:+0100
TZNAME:BST
DTSTART:20190331T010000
END:DAYLIGHT
BEGIN:STANDARD
TZOFFSETFROM:+0100
TZOFFSETTO:+0000
TZNAME:GMT
DTSTART:20191027T010000
END:STANDARD
BEGIN:DAYLIGHT
TZOFFSETFROM:+0000
TZOFFSETTO:+0100
TZNAME:BST
DTSTART:20200329T010000
END:DAYLIGHT
BEGIN:STANDARD
TZOFFSETFROM:+0100
TZOFFSETTO:+0000
TZNAME:GMT
DTSTART:20201025T010000
END:STANDARD
END:VTIMEZONE
BEGIN:VEVENT
DTSTART;TZID=Europe/London:20191103T171500
DTEND;TZID=Europe/London:20191103T191500
DTSTAMP:20260424T171459
CREATED:20190710T183041Z
LAST-MODIFIED:20190913T191808Z
UID:4965-1572801300-1572808500@www.westdartmoor.church
SUMMARY:Harp concert
DESCRIPTION:  \n \nFionnuala Kirby  will hold a Harp Concert  in St Peter’s Church \nTickets £7 in aid of the church fabric from \nAnnie Inman 01822 852672\, Moorholme\, Dousland\, Yelverton PL20 6LY with SAE please\, \nJonathan Frappell 01822 855541\, \nThe Royal Oak\, Meavy\, \nor on the door at the church. \nCheques payable to Meavy Church. \nInterval with refreshments
URL:https://www.westdartmoor.church/event/harp-concert/
LOCATION:St Peter’s Church\, Meavy\, Meavy\, Yelverton\, Devon\, PL20 6PJ\, United Kingdom
END:VEVENT
END:VCALENDAR