BEGIN:VCALENDAR
VERSION:2.0
PRODID:-//West Dartmoor Mission Community - ECPv6.15.20//NONSGML v1.0//EN
CALSCALE:GREGORIAN
METHOD:PUBLISH
X-WR-CALNAME:West Dartmoor Mission Community
X-ORIGINAL-URL:https://www.westdartmoor.church
X-WR-CALDESC:Events for West Dartmoor Mission Community
REFRESH-INTERVAL;VALUE=DURATION:PT1H
X-Robots-Tag:noindex
X-PUBLISHED-TTL:PT1H
BEGIN:VTIMEZONE
TZID:Europe/London
BEGIN:DAYLIGHT
TZOFFSETFROM:+0000
TZOFFSETTO:+0100
TZNAME:BST
DTSTART:20170326T010000
END:DAYLIGHT
BEGIN:STANDARD
TZOFFSETFROM:+0100
TZOFFSETTO:+0000
TZNAME:GMT
DTSTART:20171029T010000
END:STANDARD
BEGIN:DAYLIGHT
TZOFFSETFROM:+0000
TZOFFSETTO:+0100
TZNAME:BST
DTSTART:20180325T010000
END:DAYLIGHT
BEGIN:STANDARD
TZOFFSETFROM:+0100
TZOFFSETTO:+0000
TZNAME:GMT
DTSTART:20181028T010000
END:STANDARD
BEGIN:DAYLIGHT
TZOFFSETFROM:+0000
TZOFFSETTO:+0100
TZNAME:BST
DTSTART:20190331T010000
END:DAYLIGHT
BEGIN:STANDARD
TZOFFSETFROM:+0100
TZOFFSETTO:+0000
TZNAME:GMT
DTSTART:20191027T010000
END:STANDARD
END:VTIMEZONE
BEGIN:VEVENT
DTSTART;TZID=Europe/London:20181213T140000
DTEND;TZID=Europe/London:20181213T150000
DTSTAMP:20260422T012958
CREATED:20181205T205011Z
LAST-MODIFIED:20181205T205011Z
UID:4405-1544709600-1544713200@www.westdartmoor.church
SUMMARY:Christingle Service - St Mary's\, Walkhampton
DESCRIPTION:You are all very welcome to join us at our Christingle Service held at: \nSt Peter’s\, Meavy on 12th December at 2pm \nSt John’s\, Horrabridge on 12th December at 6pm \nSt Mary’s\, Walkhampton on 13th December at 2pm
URL:https://www.westdartmoor.church/event/christingle-service-st-marys-walkhampton/
LOCATION:St Mary the Virgin Walkhampton\, Walkhampton\, Yelverton\, Devon\, PL20 6JY\, United Kingdom
END:VEVENT
END:VCALENDAR