BEGIN:VCALENDAR
VERSION:2.0
PRODID:-//West Dartmoor Mission Community - ECPv6.15.20//NONSGML v1.0//EN
CALSCALE:GREGORIAN
METHOD:PUBLISH
X-WR-CALNAME:West Dartmoor Mission Community
X-ORIGINAL-URL:https://www.westdartmoor.church
X-WR-CALDESC:Events for West Dartmoor Mission Community
REFRESH-INTERVAL;VALUE=DURATION:PT1H
X-Robots-Tag:noindex
X-PUBLISHED-TTL:PT1H
BEGIN:VTIMEZONE
TZID:Europe/London
BEGIN:DAYLIGHT
TZOFFSETFROM:+0000
TZOFFSETTO:+0100
TZNAME:BST
DTSTART:20170326T010000
END:DAYLIGHT
BEGIN:STANDARD
TZOFFSETFROM:+0100
TZOFFSETTO:+0000
TZNAME:GMT
DTSTART:20171029T010000
END:STANDARD
BEGIN:DAYLIGHT
TZOFFSETFROM:+0000
TZOFFSETTO:+0100
TZNAME:BST
DTSTART:20180325T010000
END:DAYLIGHT
BEGIN:STANDARD
TZOFFSETFROM:+0100
TZOFFSETTO:+0000
TZNAME:GMT
DTSTART:20181028T010000
END:STANDARD
BEGIN:DAYLIGHT
TZOFFSETFROM:+0000
TZOFFSETTO:+0100
TZNAME:BST
DTSTART:20190331T010000
END:DAYLIGHT
BEGIN:STANDARD
TZOFFSETFROM:+0100
TZOFFSETTO:+0000
TZNAME:GMT
DTSTART:20191027T010000
END:STANDARD
END:VTIMEZONE
BEGIN:VEVENT
DTSTART;TZID=Europe/London:20181212T140000
DTEND;TZID=Europe/London:20181212T150000
DTSTAMP:20260424T171449
CREATED:20181205T204823Z
LAST-MODIFIED:20181205T204823Z
UID:4401-1544623200-1544626800@www.westdartmoor.church
SUMMARY:Christingle Service St Peter's\, Meavy
DESCRIPTION:You are all very welcome to join us at our Christingle Service held at: \nSt Peter’s\, Meavy on 12th December at 2pm \nSt John’s\, Horrabridge on 12th December at 6pm \nSt Mary’s\, Walkhampton on 13th December at 2pm
URL:https://www.westdartmoor.church/event/christingle-service-st-peters-meavy/
LOCATION:St Peter’s Church\, Meavy\, Meavy\, Yelverton\, Devon\, PL20 6PJ\, United Kingdom
END:VEVENT
BEGIN:VEVENT
DTSTART;TZID=Europe/London:20181212T180000
DTEND;TZID=Europe/London:20181212T190000
DTSTAMP:20260424T171449
CREATED:20181205T204922Z
LAST-MODIFIED:20181205T204922Z
UID:4403-1544637600-1544641200@www.westdartmoor.church
SUMMARY:Christingle Service - St John's\, Horrabridge
DESCRIPTION:You are all very welcome to join us at our Christingle Service held at: \nSt Peter’s\, Meavy on 12th December at 2pm \nSt John’s\, Horrabridge on 12th December at 6pm \nSt Mary’s\, Walkhampton on 13th December at 2pm
URL:https://www.westdartmoor.church/event/christingle-service-st-johns-horrabridge/
LOCATION:St John the Baptist Horrabridge\, Walkhampton Road\, Horrabridge\, Devon\, PL20 7RF\, United Kingdom
END:VEVENT
END:VCALENDAR