BEGIN:VCALENDAR
VERSION:2.0
PRODID:-//West Dartmoor Mission Community - ECPv6.15.20//NONSGML v1.0//EN
CALSCALE:GREGORIAN
METHOD:PUBLISH
X-ORIGINAL-URL:https://www.westdartmoor.church
X-WR-CALDESC:Events for West Dartmoor Mission Community
REFRESH-INTERVAL;VALUE=DURATION:PT1H
X-Robots-Tag:noindex
X-PUBLISHED-TTL:PT1H
BEGIN:VTIMEZONE
TZID:Europe/London
BEGIN:DAYLIGHT
TZOFFSETFROM:+0000
TZOFFSETTO:+0100
TZNAME:BST
DTSTART:20170326T010000
END:DAYLIGHT
BEGIN:STANDARD
TZOFFSETFROM:+0100
TZOFFSETTO:+0000
TZNAME:GMT
DTSTART:20171029T010000
END:STANDARD
BEGIN:DAYLIGHT
TZOFFSETFROM:+0000
TZOFFSETTO:+0100
TZNAME:BST
DTSTART:20180325T010000
END:DAYLIGHT
BEGIN:STANDARD
TZOFFSETFROM:+0100
TZOFFSETTO:+0000
TZNAME:GMT
DTSTART:20181028T010000
END:STANDARD
BEGIN:DAYLIGHT
TZOFFSETFROM:+0000
TZOFFSETTO:+0100
TZNAME:BST
DTSTART:20190331T010000
END:DAYLIGHT
BEGIN:STANDARD
TZOFFSETFROM:+0100
TZOFFSETTO:+0000
TZNAME:GMT
DTSTART:20191027T010000
END:STANDARD
END:VTIMEZONE
BEGIN:VEVENT
DTSTART;TZID=Europe/London:20180623T120000
DTEND;TZID=Europe/London:20180623T160000
DTSTAMP:20260421T113955
CREATED:20180503T091154Z
LAST-MODIFIED:20180503T091154Z
UID:4222-1529755200-1529769600@www.westdartmoor.church
SUMMARY:Horrabridge Summer Fair
DESCRIPTION:Horrabridge Summer Fair at Weir Park\, Horrabridge \n12 noon to 4pm \n(The event will be held in the School in the event of a wet day)
URL:https://www.westdartmoor.church/event/horrabridge-summer-fair-2/
LOCATION:Devon
END:VEVENT
END:VCALENDAR