BEGIN:VCALENDAR
VERSION:2.0
PRODID:-//West Dartmoor Mission Community - ECPv6.15.20//NONSGML v1.0//EN
CALSCALE:GREGORIAN
METHOD:PUBLISH
X-WR-CALNAME:West Dartmoor Mission Community
X-ORIGINAL-URL:https://www.westdartmoor.church
X-WR-CALDESC:Events for West Dartmoor Mission Community
REFRESH-INTERVAL;VALUE=DURATION:PT1H
X-Robots-Tag:noindex
X-PUBLISHED-TTL:PT1H
BEGIN:VTIMEZONE
TZID:Europe/London
BEGIN:DAYLIGHT
TZOFFSETFROM:+0000
TZOFFSETTO:+0100
TZNAME:BST
DTSTART:20160327T010000
END:DAYLIGHT
BEGIN:STANDARD
TZOFFSETFROM:+0100
TZOFFSETTO:+0000
TZNAME:GMT
DTSTART:20161030T010000
END:STANDARD
BEGIN:DAYLIGHT
TZOFFSETFROM:+0000
TZOFFSETTO:+0100
TZNAME:BST
DTSTART:20170326T010000
END:DAYLIGHT
BEGIN:STANDARD
TZOFFSETFROM:+0100
TZOFFSETTO:+0000
TZNAME:GMT
DTSTART:20171029T010000
END:STANDARD
BEGIN:DAYLIGHT
TZOFFSETFROM:+0000
TZOFFSETTO:+0100
TZNAME:BST
DTSTART:20180325T010000
END:DAYLIGHT
BEGIN:STANDARD
TZOFFSETFROM:+0100
TZOFFSETTO:+0000
TZNAME:GMT
DTSTART:20181028T010000
END:STANDARD
END:VTIMEZONE
BEGIN:VEVENT
DTSTART;TZID=Europe/London:20170323T083000
DTEND;TZID=Europe/London:20170323T103000
DTSTAMP:20260426T020103
CREATED:20170213T103429Z
LAST-MODIFIED:20170213T103429Z
UID:3488-1490257800-1490265000@www.westdartmoor.church
SUMMARY:Lent Breakfast
DESCRIPTION:You are invited to a Lent Breakfast at Moorholme\, Sparkatown Lane\, Dousland between 8.30 -10.30am on 23 March. \nThis breakfast is part of our Lent fundraising for About Time and Five Talents \nAll are welcome to attend but it will assist catering arrangements if you can advise Caroline Jennings if you are planning to come: c.jennings@wjnj.co.uk \n  \n 
URL:https://www.westdartmoor.church/event/lent-breakfast/
LOCATION:Moorholme\, Sparkatown Lane \, Dousland
END:VEVENT
END:VCALENDAR