BEGIN:VCALENDAR
VERSION:2.0
PRODID:-//West Dartmoor Mission Community - ECPv6.15.20//NONSGML v1.0//EN
CALSCALE:GREGORIAN
METHOD:PUBLISH
X-ORIGINAL-URL:https://www.westdartmoor.church
X-WR-CALDESC:Events for West Dartmoor Mission Community
REFRESH-INTERVAL;VALUE=DURATION:PT1H
X-Robots-Tag:noindex
X-PUBLISHED-TTL:PT1H
BEGIN:VTIMEZONE
TZID:Europe/London
BEGIN:DAYLIGHT
TZOFFSETFROM:+0000
TZOFFSETTO:+0100
TZNAME:BST
DTSTART:20150329T010000
END:DAYLIGHT
BEGIN:STANDARD
TZOFFSETFROM:+0100
TZOFFSETTO:+0000
TZNAME:GMT
DTSTART:20151025T010000
END:STANDARD
BEGIN:DAYLIGHT
TZOFFSETFROM:+0000
TZOFFSETTO:+0100
TZNAME:BST
DTSTART:20160327T010000
END:DAYLIGHT
BEGIN:STANDARD
TZOFFSETFROM:+0100
TZOFFSETTO:+0000
TZNAME:GMT
DTSTART:20161030T010000
END:STANDARD
BEGIN:DAYLIGHT
TZOFFSETFROM:+0000
TZOFFSETTO:+0100
TZNAME:BST
DTSTART:20170326T010000
END:DAYLIGHT
BEGIN:STANDARD
TZOFFSETFROM:+0100
TZOFFSETTO:+0000
TZNAME:GMT
DTSTART:20171029T010000
END:STANDARD
END:VTIMEZONE
BEGIN:VEVENT
DTSTART;TZID=Europe/London:20161202T140000
DTEND;TZID=Europe/London:20161202T150000
DTSTAMP:20260423T115005
CREATED:20161012T091044Z
LAST-MODIFIED:20161012T091044Z
UID:3285-1480687200-1480690800@www.westdartmoor.church
SUMMARY:Christingle Service
DESCRIPTION:Please come and join the children of Meavy C of E School
URL:https://www.westdartmoor.church/event/christingle-service-3/
LOCATION:St Peter’s Church\, Meavy\, Meavy\, Yelverton\, Devon\, PL20 6PJ\, United Kingdom
END:VEVENT
BEGIN:VEVENT
DTSTART;TZID=Europe/London:20161202T190000
DTEND;TZID=Europe/London:20161202T213000
DTSTAMP:20260423T115005
CREATED:20160120T115220Z
LAST-MODIFIED:20160120T115220Z
UID:2751-1480705200-1480714200@www.westdartmoor.church
SUMMARY:A Supper Evening with Carols
DESCRIPTION:
URL:https://www.westdartmoor.church/event/a-supper-evening-with-carols/
LOCATION:St Paul’s Church Hall\, St Paul's Church Hall\, Yelverton\, Devon\, PL20 6AB\, United Kingdom
END:VEVENT
END:VCALENDAR